BEGIN:VCALENDAR
VERSION:2.0
PRODID:-//SHENANDOAH REGION - ECPv6.11.2.1//NONSGML v1.0//EN
CALSCALE:GREGORIAN
METHOD:PUBLISH
X-ORIGINAL-URL:https://shn.pca.org
X-WR-CALDESC:Events for SHENANDOAH REGION
REFRESH-INTERVAL;VALUE=DURATION:PT1H
X-Robots-Tag:noindex
X-PUBLISHED-TTL:PT1H
BEGIN:VTIMEZONE
TZID:America/New_York
BEGIN:DAYLIGHT
TZOFFSETFROM:-0500
TZOFFSETTO:-0400
TZNAME:EDT
DTSTART:20250309T070000
END:DAYLIGHT
BEGIN:STANDARD
TZOFFSETFROM:-0400
TZOFFSETTO:-0500
TZNAME:EST
DTSTART:20251102T060000
END:STANDARD
END:VTIMEZONE
BEGIN:VTIMEZONE
TZID:Asia/Karachi
BEGIN:STANDARD
TZOFFSETFROM:+0500
TZOFFSETTO:+0500
TZNAME:PKT
DTSTART:20250101T000000
END:STANDARD
END:VTIMEZONE
BEGIN:VEVENT
DTSTART;TZID=America/New_York:20250405T080000
DTEND;TZID=America/New_York:20250405T100000
DTSTAMP:20260423T122859
CREATED:20250303T193910Z
LAST-MODIFIED:20250402T183402Z
UID:23120-1743840000-1743847200@shn.pca.org
SUMMARY:Charlottesville Cars and Coffee
DESCRIPTION:NOTE: This is a non-PCA event. Charlottesville Cars and Coffee meets from 8 am to 10 am on the first and third Saturdays of every month all year at the Barracks Road Shopping Center. Bad weather does not cancel – use your brain. Normally 80 to 100 cars\, everything from Ford to Ferrari. Good mix of younger and older enthusiasts coming together to see some great cars and enjoy even better conversation. Usual rules apply; no burnouts or hard pulls\, no revving engines\, no trash! Violators asked to leave and not return. \nPhoto credit: Cars and Coffee website.
URL:https://shn.pca.org/calendar/charlottesville-cars-and-coffee-2/
LOCATION:Barracks Road 1049 Emmet St N\, Charlottesville\, VA 22903\, 1049 Emmet St N\, Charlottesville\, VA\, 22903\, United States
ATTACH;FMTTYPE=image/webp:https://shn.pca.org/wp-content/uploads/2025/03/Charlottesville-Cars-and-Coffee.webp
END:VEVENT
BEGIN:VEVENT
DTSTART;TZID=Asia/Karachi:20250405T080000
DTEND;TZID=Asia/Karachi:20250405T100000
DTSTAMP:20260423T122859
CREATED:20250402T183202Z
LAST-MODIFIED:20250402T183653Z
UID:23404-1743840000-1743847200@shn.pca.org
SUMMARY:Cars & Coffee Charlottesville
DESCRIPTION:NOTE: This is a non-PCA event. Charlottesville Cars and Coffee meets from 8 am to 10 am on the first and third Saturdays of every month all year at the Barracks Road Shopping Center. Bad weather does not cancel – use your brain. Normally 80 to 100 cars\, everything from Ford to Ferrari. Good mix of younger and older enthusiasts coming together to see some great cars and enjoy even better conversation. Usual rules apply; no burnouts or hard pulls\, no revving engines\, no trash! Violators asked to leave and not return. \nPhoto credit: Cars and Coffee website.
URL:https://shn.pca.org/calendar/cars-coffee-charlottesville/
LOCATION:Barracks Road 1049 Emmet St N\, Charlottesville\, VA 22903\, 1049 Emmet St N\, Charlottesville\, VA\, 22903\, United States
ATTACH;FMTTYPE=image/webp:https://shn.pca.org/wp-content/uploads/2025/03/Charlottesville-Cars-and-Coffee.webp
END:VEVENT
BEGIN:VEVENT
DTSTART;TZID=Asia/Karachi:20250405T140000
DTEND;TZID=Asia/Karachi:20250405T160000
DTSTAMP:20260423T122859
CREATED:20250326T140246Z
LAST-MODIFIED:20250326T140246Z
UID:23353-1743861600-1743868800@shn.pca.org
SUMMARY:Frühlingsfest - First Settlers Region Spring Social
DESCRIPTION:Join your First Settlers Region (FSR) friends for a social event on Saturday\, April 5th\, from 2 to 4 PM. This gathering\, named “Frühlingsfest”\, at Gauthier Vineyard is in the spirit of a German family-friendly “Spring Festival” marking the start of spring. As Octoberfest is in the fall\, this German fest brings together friends to shed winter and welcome in the Spring. \nHead east toward the Hampton Roads peninsula to the open countryside of Gauthier Vineyards where we’ll celebrate our shared passion for Porsche\, enjoy some tasty delights and beverages with our FSR family. \nThis venue is special as the winemaker has made the vineyard’s event center available\, so please help support the vineyard where you can. The winemaker will be providing an overview of vineyard\, their wine making process and samples of Gauthier Vineyard wines. While enjoying wine and time with friends\, make sure you don’t miss out on German Chef Maggie’s Frühlingsfest treats. \nThe registration deadline is April 1. Please indicate if you will be joining us and the number of people who will be in your group. There is ample parking and a social area\, but please register as soon as possible. Registration is $42 per person\, which includes a substantial selection of heavy hors d’oeuvres\, wine tasting\, beer and non-alcoholic beverages. \nLik to register: https://fsrpca.motorsportreg.com/events/fsr-fruhlingsfest-social-gauthier-vineyard-pca-first-settlers-983646 \nWe hope you can join us for what is sure to be a great time with your Porsche friends. This event is open to PCA members in the FSR and neighboring regions. \nMenu: \nVeggie garden cups with Avocado sour cream dip \nGerman style Cheese and fruit cups \nTraditional Bayern German meat specialty on a pretzel bun with lettuce\, tomato\, and mustard \nMini Croissants filled with sauerkraut then baked \nSingle-bite Meatball cup with a sweet mustard dip \nBratwurst puff pastry rolls \nTortellini skewers in a cup \nTarte Flambe toast bites topped with sour cream\, caramelized onion\, bacon bits \nPretzel with a side of mustard \nBlack forest cake cups \nCheesecake in a glass with blueberry coulis \nBeverages: Gauthier wine selections\, local beers\, soft drinks\, iced tea\, and water
URL:https://shn.pca.org/calendar/fruhlingsfest-first-settlers-region-spring-social/
LOCATION:Gauthier Vineyard\, 5000 Farmers Drive\, Barhamsville\, VA\, 23011\, United States
ATTACH;FMTTYPE=image/jpeg:https://shn.pca.org/wp-content/uploads/2025/03/FSRspringfest.jpg
END:VEVENT
END:VCALENDAR