BEGIN:VCALENDAR
VERSION:2.0
PRODID:-//SHENANDOAH REGION - ECPv6.11.2.1//NONSGML v1.0//EN
CALSCALE:GREGORIAN
METHOD:PUBLISH
X-ORIGINAL-URL:https://shn.pca.org
X-WR-CALDESC:Events for SHENANDOAH REGION
REFRESH-INTERVAL;VALUE=DURATION:PT1H
X-Robots-Tag:noindex
X-PUBLISHED-TTL:PT1H
BEGIN:VTIMEZONE
TZID:UTC
BEGIN:STANDARD
TZOFFSETFROM:+0000
TZOFFSETTO:+0000
TZNAME:UTC
DTSTART:20250101T000000
END:STANDARD
END:VTIMEZONE
BEGIN:VEVENT
DTSTART;TZID=UTC:20250419T080000
DTEND;TZID=UTC:20250419T153000
DTSTAMP:20260423T152100
CREATED:20250205T160140Z
LAST-MODIFIED:20250316T163452Z
UID:22944-1745049600-1745076600@shn.pca.org
SUMMARY:Charlottesville Porsche Meet: Driving Tour to Bold Rock Cidery
DESCRIPTION:On Saturday\, April 19th\, the Shenandoah Region will host our Charlottesville Porsche Meet driving tour of the Charlottesville/Albemarle County area starting in Crozet and ending at Bold Rock Cidery. We will meet at Claudius Crozet Park\, 5300 Park Road\, Crozet\, VA 22932. Coffee and an assortment of pastries will be provided by Praha Bakery at the park’s gazebo starting at 8:00 AM. Our drivers’ meeting will be held at 8:45 AM followed by drive group departure starting at 9:00. There is a nominal fee of $10 for the driving tour. After approximately 2 hours of driving along the area’s beautiful scenic backroads and stopping for a break along the way\, the drive groups will arrive at Bold Rock in Nellysford (1020 Rockfish Valley Highway\, Nellysford\, VA 22958) beginning at 11:30 AM. \nBold Rock will have a special parking area for our Porsches. Please follow the signs and/or attendants to our designated area. Lunch and beverages (cider\, beer and spirits) will be available for purchase. The Cidery has reserved a separate room reserved for lunch for our members. Prizes will be given out for a People Choice Concours with voting concluding at 2:30 PM and winners announced at 3:30.
URL:https://shn.pca.org/calendar/charlottesville-porsche-fest-weekend-drive-to-bold-rock-distillery/
LOCATION:Bold Rock Distillery\, 1020 Rockfish Valley Highway\, Nellysford\, VA\, 22958\, United States
ATTACH;FMTTYPE=image/jpeg:https://shn.pca.org/wp-content/uploads/2025/02/BRC.jpg
ORGANIZER;CN="Shenandoah Region PCA":MAILTO:sr.pca.prez@gmail.com
END:VEVENT
END:VCALENDAR