BEGIN:VCALENDAR
VERSION:2.0
PRODID:-//SHENANDOAH REGION - ECPv6.11.2.1//NONSGML v1.0//EN
CALSCALE:GREGORIAN
METHOD:PUBLISH
X-ORIGINAL-URL:https://shn.pca.org
X-WR-CALDESC:Events for SHENANDOAH REGION
REFRESH-INTERVAL;VALUE=DURATION:PT1H
X-Robots-Tag:noindex
X-PUBLISHED-TTL:PT1H
BEGIN:VTIMEZONE
TZID:UTC
BEGIN:STANDARD
TZOFFSETFROM:+0000
TZOFFSETTO:+0000
TZNAME:UTC
DTSTART:20250101T000000
END:STANDARD
END:VTIMEZONE
BEGIN:VTIMEZONE
TZID:America/New_York
BEGIN:DAYLIGHT
TZOFFSETFROM:-0500
TZOFFSETTO:-0400
TZNAME:EDT
DTSTART:20250309T070000
END:DAYLIGHT
BEGIN:STANDARD
TZOFFSETFROM:-0400
TZOFFSETTO:-0500
TZNAME:EST
DTSTART:20251102T060000
END:STANDARD
END:VTIMEZONE
BEGIN:VTIMEZONE
TZID:Asia/Karachi
BEGIN:STANDARD
TZOFFSETFROM:+0500
TZOFFSETTO:+0500
TZNAME:PKT
DTSTART:20250101T000000
END:STANDARD
END:VTIMEZONE
BEGIN:VEVENT
DTSTART;VALUE=DATE:20250430
DTEND;VALUE=DATE:20250505
DTSTAMP:20260423T152013
CREATED:20241226T165415Z
LAST-MODIFIED:20241226T170417Z
UID:22838-1745971200-1746403199@shn.pca.org
SUMMARY:PCA's Spring Treffen 2025
DESCRIPTION:In case you missed it\, Porsche Club of America’s Spring Treffen 2025 is coming to the Shenandoah Region!  Starting the afternoon of April 30th\, PCA members will arrive at the Omni Homestead Resort in Hot Springs\, VA\, for two days of driving tours followed by a navigator’s day off and wrapping up the morning of May 4th.  Agenda details should be available soon. \nIf you’re interested in attending\, the key date and time to remember are Wednesday\, February 5\, 2025\, and 3:00 PM EST.  That’s when event registration will open along with reserving a hotel room and registering for the driving tours.  Watch the PCA National website and PCA enews emails for sign-up details.  Treffens typically fill up very quickly so don’t miss your chance to register. \nPlease click on these links for more information: \nhttps://treffen.pca.org/treffen-2025-tbd \nhttps://mediaassets.pca.org/pages/microsites/Treffen/files/uploads/33427_host_hotel.pdf \nhttps://www.Facebook.com/treffennorthamerica \nFeatured photo by Joseph Whetzel
URL:https://shn.pca.org/calendar/spring-treffen-2025/
LOCATION:Omni Homestead Resort\, 7696 Sam Snead Highway\, Hot Springs\, VA\, 24445\, United States
ATTACH;FMTTYPE=image/jpeg:https://shn.pca.org/wp-content/uploads/2024/12/Concours-Marked-27-scaled.jpg
END:VEVENT
BEGIN:VEVENT
DTSTART;TZID=America/New_York:20250405T080000
DTEND;TZID=America/New_York:20250405T100000
DTSTAMP:20260423T152013
CREATED:20250303T193910Z
LAST-MODIFIED:20250402T183402Z
UID:23120-1743840000-1743847200@shn.pca.org
SUMMARY:Charlottesville Cars and Coffee
DESCRIPTION:NOTE: This is a non-PCA event. Charlottesville Cars and Coffee meets from 8 am to 10 am on the first and third Saturdays of every month all year at the Barracks Road Shopping Center. Bad weather does not cancel – use your brain. Normally 80 to 100 cars\, everything from Ford to Ferrari. Good mix of younger and older enthusiasts coming together to see some great cars and enjoy even better conversation. Usual rules apply; no burnouts or hard pulls\, no revving engines\, no trash! Violators asked to leave and not return. \nPhoto credit: Cars and Coffee website.
URL:https://shn.pca.org/calendar/charlottesville-cars-and-coffee-2/
LOCATION:Barracks Road 1049 Emmet St N\, Charlottesville\, VA 22903\, 1049 Emmet St N\, Charlottesville\, VA\, 22903\, United States
ATTACH;FMTTYPE=image/webp:https://shn.pca.org/wp-content/uploads/2025/03/Charlottesville-Cars-and-Coffee.webp
END:VEVENT
BEGIN:VEVENT
DTSTART;TZID=Asia/Karachi:20250503T080000
DTEND;TZID=Asia/Karachi:20250503T100000
DTSTAMP:20260423T152013
CREATED:20250402T184211Z
LAST-MODIFIED:20250402T184211Z
UID:23408-1746259200-1746266400@shn.pca.org
SUMMARY:Charlottesville Cars & Coffee
DESCRIPTION:NOTE: This is a non-PCA event. Charlottesville Cars and Coffee meets from 8 am to 10 am on the first and third Saturdays of every month all year at the Barracks Road Shopping Center. Bad weather does not cancel – use your brain. Normally 80 to 100 cars\, everything from Ford to Ferrari. Good mix of younger and older enthusiasts coming together to see some great cars and enjoy even better conversation. Usual rules apply; no burnouts or hard pulls\, no revving engines\, no trash! Violators asked to leave and not return. \nPhoto credit: Cars and Coffee website.
URL:https://shn.pca.org/calendar/charlottesville-cars-coffee/
LOCATION:Barracks Road 1049 Emmet St N\, Charlottesville\, VA 22903\, 1049 Emmet St N\, Charlottesville\, VA\, 22903\, United States
ATTACH;FMTTYPE=image/webp:https://shn.pca.org/wp-content/uploads/2025/03/Charlottesville-Cars-and-Coffee.webp
END:VEVENT
BEGIN:VEVENT
DTSTART;TZID=UTC:20250503T080000
DTEND;TZID=UTC:20250503T150000
DTSTAMP:20260423T152013
CREATED:20250205T202721Z
LAST-MODIFIED:20250205T202721Z
UID:22961-1746259200-1746284400@shn.pca.org
SUMMARY:Porsche Only Swap Meet
DESCRIPTION:Take a road trip with other Shenandoah Region member to the Porsche Only Swap Meet.  Here’s the excerpt from the organizer’s webpage: \nThe Central PA Region of the Porsche Club of America is once again bringing its world-famous Porsche-Only Swap Meet to Carlisle Fairgrounds\, Carlisle Pennsylvania\, on Saturday\, May 3rd\, 2025. This is without exaggeration the largest event of its kind on the planet. It typically brings nearly 650 vendors\, around 1\,000 Porsches\, and over 6\,000 visitors from all over the world together every year. If you’re seeking an obscure Porsche or an obscure part for your Porsche\, this is your best chance to find it. Every dealer and Porsche packrat in a 250-mile radius will be bringing their odds and ends for sale or swap. You’ll see exotic Porsches found nowhere this side of Stuttgart\, and Porsche personalities ranging from PCA muckety-mucks to (sometimes) celebrities like Jerry Seinfeld. As always\, we’ll feature a People’s Choice Concours\, too!
URL:https://shn.pca.org/calendar/porsche-only-swap-meet/
LOCATION:Carlisle Fairgrounds\, 1000 Bryn Mawr Rd\, Carlisle\, PA\, 17013\, United States
ATTACH;FMTTYPE=image/jpeg:https://shn.pca.org/wp-content/uploads/2025/02/cpa-pca22-1536x1024-1.jpg
END:VEVENT
END:VCALENDAR