BEGIN:VCALENDAR
VERSION:2.0
PRODID:-//SHENANDOAH REGION - ECPv6.11.2.1//NONSGML v1.0//EN
CALSCALE:GREGORIAN
METHOD:PUBLISH
X-WR-CALNAME:SHENANDOAH REGION
X-ORIGINAL-URL:https://shn.pca.org
X-WR-CALDESC:Events for SHENANDOAH REGION
REFRESH-INTERVAL;VALUE=DURATION:PT1H
X-Robots-Tag:noindex
X-PUBLISHED-TTL:PT1H
BEGIN:VTIMEZONE
TZID:America/New_York
BEGIN:DAYLIGHT
TZOFFSETFROM:-0500
TZOFFSETTO:-0400
TZNAME:EDT
DTSTART:20250309T070000
END:DAYLIGHT
BEGIN:STANDARD
TZOFFSETFROM:-0400
TZOFFSETTO:-0500
TZNAME:EST
DTSTART:20251102T060000
END:STANDARD
END:VTIMEZONE
BEGIN:VEVENT
DTSTART;TZID=America/New_York:20250817T074500
DTEND;TZID=America/New_York:20250817T110000
DTSTAMP:20260423T232119
CREATED:20250727T143652Z
LAST-MODIFIED:20250727T143652Z
UID:23769-1755416700-1755428400@shn.pca.org
SUMMARY:Fourth Annual Mukha's Backyard Driving Tour
DESCRIPTION:On Sunday\, August 17th\, the Shenandoah Region is proud to present the fourth annual Mukha’s Backyard Driving Tour. Join us on country back roads traversing Orange and Madison counties with the final destination of Gordonsville. \nThe tour will start at the Orange Food Lion (577 N. Madison Rd. Orange\, VA) on the Taco Bell side. Plan arrival starting at 0745. Please immediately find your group lead to sign the waiver and stage with your group. The mandatory driver’s meeting will occur by 0830 with the first groups leaving by 0850. \nThe Orange Diner opens at 0700 for those wanting to have a tasty breakfast before the drive. \nOur destination will be the Gordonsville Ice House. Arrival will be just before they open at 11:00 to facilitate parking. Due to parking constraints\, we will be limiting the sign up to 35 cars. Lunch is available for purchase. \nTo enhance your driving experience\, please download The Ride with GPS app and set up a free account\, but DO NOT purchase a plan. Please contact Dan Graff (202 309-1127) so he can send you a link to use the chapter’s account which will have a link to this as well as other previous routes in our library. \nSign up soon. Don’t miss out! THE LINK FOR REGISTRATION IS HERE \nWe hope you can join us! Any questions about this event contact Ray Chung at ray.chungmd@gmail.com
URL:https://shn.pca.org/calendar/fourth-annual-mukhas-backyard-driving-tour/
LOCATION:Orange Diner\, 511 N Madison Rd\, Orange\, VA\, 22960\, United States
ATTACH;FMTTYPE=image/jpeg:https://shn.pca.org/wp-content/uploads/2025/07/Mulka.jpg
ORGANIZER;CN="Shenandoah Region PCA":MAILTO:sr.pca.prez@gmail.com
END:VEVENT
END:VCALENDAR