BEGIN:VCALENDAR
VERSION:2.0
PRODID:-//SHENANDOAH REGION - ECPv6.11.2.1//NONSGML v1.0//EN
CALSCALE:GREGORIAN
METHOD:PUBLISH
X-WR-CALNAME:SHENANDOAH REGION
X-ORIGINAL-URL:https://shn.pca.org
X-WR-CALDESC:Events for SHENANDOAH REGION
REFRESH-INTERVAL;VALUE=DURATION:PT1H
X-Robots-Tag:noindex
X-PUBLISHED-TTL:PT1H
BEGIN:VTIMEZONE
TZID:America/New_York
BEGIN:DAYLIGHT
TZOFFSETFROM:-0500
TZOFFSETTO:-0400
TZNAME:EDT
DTSTART:20250309T070000
END:DAYLIGHT
BEGIN:STANDARD
TZOFFSETFROM:-0400
TZOFFSETTO:-0500
TZNAME:EST
DTSTART:20251102T060000
END:STANDARD
END:VTIMEZONE
BEGIN:VEVENT
DTSTART;TZID=America/New_York:20250913T090000
DTEND;TZID=America/New_York:20250913T170000
DTSTAMP:20260424T130938
CREATED:20250316T164524Z
LAST-MODIFIED:20250630T181321Z
UID:23313-1757754000-1757782800@shn.pca.org
SUMMARY:Autocross at Richmond International Raceway on Saturday\, September 13th
DESCRIPTION:Registration is now open on MotorsportReg for the premier autocross of the year. This is our third year  at Richmond Raceway\, and we will have use of the track for full 8 hour track day.  Please note\, your run sequence will be based on when you register. The earlier your registration\, the earlier you will run. To register click the link below: \n AUTOCROSS REGISTRATION \nWe would like to offer a unique and special opportunity for our Shenandoah Region \, First Settlers and friends during our RPM weekend. We once again have rented the Richmond\nRaceway for a special autocross on the track. This event is not in the parking lot or near the facility\, but\nactually on the track that they race the NASCAR and Indy cars.  Our event is on Saturday\, September 13\, 2025. \nAn autocross is a single car timed competitive event where drivers navigate a course outlined by cones. \nThe course is a .75 mile D-Shaped oval track that  has a 860-foot straightaway.\nThis is truly a special opportunity that autocross enthusiasts seldom experience in your own car.  We only know of our two regions that to do an event of this magnitude. \nOur setup  will be a course that can be easily navigated with lots of openness for you to enjoy your car legally and safely while we run multiple cars one at a time.  We expect at least 5 runs per car and based on times and\nparticipation\, six runs are very possible this year. Each run is 1.5 laps of the race track.  \nRegistration is limited to 50 cars. This is a first come first served event. The earlier you sign up\, the earlier your run session. The asphalt track is unique\, fast\, and long.\nFor a full continuous 8 hours of racing (9 AM-5 PM)\, this is the Crown Jewel of our clubs racing season. \nBecause of the nearly five figure cost to rent the track\, we have had a price adjustment this year; $170 for our FSR & SRPCA members and $185 for non-PCA members. The opportunity and rarity of this event can’t be underplayed. RPM is is almost here so don’t delay in signing up for this event and other events planned for September 13th & 14th weekend. \nRPM(9/14th) registration link will be available on July 14th. \nA current compliant helmet is required for this event. O G Racing is a popular source for helmets \nWe hope to see everyone and all of your wonderful cars.  Be sure to come out and enjoy the rare and unique experience.\n For any questions please contact Rick Ebinger at fle9146@gmail .com
URL:https://shn.pca.org/calendar/autocross-at-richmond-international-raceway-on-saturday-september-13th/
LOCATION:Richmond International Raceway\, 600 E Laburnum Ave\, Richmond\, VA\, 23222\, United States
ATTACH;FMTTYPE=image/jpeg:https://shn.pca.org/wp-content/uploads/2025/03/image1.jpeg
ORGANIZER;CN="Shenandoah Region PCA":MAILTO:sr.pca.prez@gmail.com
END:VEVENT
BEGIN:VEVENT
DTSTART;TZID=America/New_York:20250913T173000
DTEND;TZID=America/New_York:20250913T203000
DTSTAMP:20260424T130938
CREATED:20250804T185940Z
LAST-MODIFIED:20250804T190015Z
UID:23799-1757784600-1757795400@shn.pca.org
SUMMARY:Richmond Porsche Meet 2025 Cocktail Party
DESCRIPTION:This year’s Richmond Porsche Meet Weekend\, which is being co-sponsored by the Shenandoah and First Settlers regions of Porsche Club of America\, includes a cocktail party on Saturday\, September 13th beginning at 5:30 PM. The venue this year is the Hermitage Country Club which promises to be fantastic. It’s located at 1248 Hermitage Rd\, Manakin-Sabot\, VA. \nYou can sign up for the party as part of Sunday’s RPM at this MotorsportReg.com link. \nWe hope to see you there! \n(Photo: Hermitage Country Club)
URL:https://shn.pca.org/calendar/richmond-porsche-meet-2025-cocktail-party/
LOCATION:Hermitage Country Club\, 1248 Hermitage Rd\, Manakin-Sabot\, VA\, United States
ATTACH;FMTTYPE=image/jpeg:https://shn.pca.org/wp-content/uploads/2025/08/HCC-buffet.jpg
ORGANIZER;CN="Shenandoah Region PCA":MAILTO:sr.pca.prez@gmail.com
END:VEVENT
END:VCALENDAR