BEGIN:VCALENDAR
VERSION:2.0
PRODID:-//SHENANDOAH REGION - ECPv6.11.2.1//NONSGML v1.0//EN
CALSCALE:GREGORIAN
METHOD:PUBLISH
X-ORIGINAL-URL:https://shn.pca.org
X-WR-CALDESC:Events for SHENANDOAH REGION
REFRESH-INTERVAL;VALUE=DURATION:PT1H
X-Robots-Tag:noindex
X-PUBLISHED-TTL:PT1H
BEGIN:VTIMEZONE
TZID:UTC
BEGIN:STANDARD
TZOFFSETFROM:+0000
TZOFFSETTO:+0000
TZNAME:UTC
DTSTART:20160101T000000
END:STANDARD
END:VTIMEZONE
BEGIN:VEVENT
DTSTART;TZID=UTC:20160829T080000
DTEND;TZID=UTC:20160829T170000
DTSTAMP:20260424T200742
CREATED:20160829T121422Z
LAST-MODIFIED:20240527T121753Z
UID:6079-1472457600-1472490000@shn.pca.org
SUMMARY:The Shenandoah Region's 21st Birthday Party
DESCRIPTION:By Jim Condon \nThe Shenandoah Region PCA turned 21 this year! To celebrate\, Beverly McNeill proposed we get together on August 8 at Stevenson Ridge near Fredericksburg. She brought the two birthday cakes and organized the event with the help of Clint Shuler. The Stevenson Ridge property covers 87 acres and has a lodge with a large dining room plus a number of restored private buildings that can be rented for getaways. In the woods behind the building complex there are old earthworks remaining from the Civil War. The owners are Dan and Debbie Spears\, and the managing partner is their daughter\, Debbie Mackowski. Dan is also a Porschephile with several older Porsches undergoing restoration in his garage. Click here to see photos from this event. \nThe buffet lunch concluded with birthday cake and ice cream. When we left the lodge\, we were surprised to see a genuine Bugatti Veryon in the driveway. This Volkswagen on steroids is powered by a 1200 hp 8 liter VW engine with 16 cylinders in a W-shaped (double V) configuration boosted by 4 turbos. It reaches 150 mph in 10 seconds from a standing start\, and its top speed is supposedly 250+ mph\, for those who can find a place to drive that fast. Needless to say\, if you have to ask how much it costs\, you can’t afford it.
URL:https://shn.pca.org/calendar/the-shenandoah-regions-21st-birthday-party/
LOCATION:VA
CATEGORIES:Shenandoah Region PCA
ATTACH;FMTTYPE=image/jpeg:https://shn.pca.org/wp-content/uploads/2024/05/BP160807zb.jpg
ORGANIZER;CN="Shenandoah Region PCA":MAILTO:sr.pca.prez@gmail.com
END:VEVENT
END:VCALENDAR