BEGIN:VCALENDAR
VERSION:2.0
PRODID:-//SHENANDOAH REGION - ECPv6.11.2.1//NONSGML v1.0//EN
CALSCALE:GREGORIAN
METHOD:PUBLISH
X-ORIGINAL-URL:https://shn.pca.org
X-WR-CALDESC:Events for SHENANDOAH REGION
REFRESH-INTERVAL;VALUE=DURATION:PT1H
X-Robots-Tag:noindex
X-PUBLISHED-TTL:PT1H
BEGIN:VTIMEZONE
TZID:UTC
BEGIN:STANDARD
TZOFFSETFROM:+0000
TZOFFSETTO:+0000
TZNAME:UTC
DTSTART:20160101T000000
END:STANDARD
END:VTIMEZONE
BEGIN:VEVENT
DTSTART;TZID=UTC:20160501T080000
DTEND;TZID=UTC:20160501T170000
DTSTAMP:20260425T020147
CREATED:20160501T145457Z
LAST-MODIFIED:20240527T145652Z
UID:6091-1462089600-1462122000@shn.pca.org
SUMMARY:Dominion Raceway Tour
DESCRIPTION:The Dominion Raceway & Entertainment complex combines a 4/10 mile banked oval\, a 1/8 mile drag strip\, a festival concert venue\, and a 2 mile road course in a single facility just off I-95 in Thornburg\, VA. The oval recently opened\, and the rest is still under construction. To see the photo gallery covering this tour and the raceway complex\, click here. \nRandy Bell led our April 16 driving tour in his Boxster Spyder. Randy is member number one of the Dominion Raceway driving club\, which is conveniently located close to his home. When we arrived at Dominion Raceway\, there was a long line of racers waiting to sign up for the oval-track race scheduled for that evening. Some of us drove around the line and parked along the pit-out area of the road course\, while others parked beside the entrance road and walked to the main building. \nThe director of the driving club\, Jim Lorimer\, took us to the roof for a bird’s eye view so we could easily see the oval and most of the road course. The 2700-foot front straight passes beside the main building and ends in a left turn named after the nearby Po river. As we watched\, the base layer of the front straight was being patched to repair damage caused by the wet winter weather. The road course is 36 feet wide everywhere\, has 12 turns\, and has 70 feet of elevation change. It is driven counterclockwise and passes under the bridge in the photo above. \nWe ate lunch in the main building\, and co-owner Steve Britt explained the planned operation of Dominion Raceway. Free passes to the evening’s oval race were offered to those who could stay\, but most of us had to head home during the afternoon. \nThe PCA First Settlers Region (FSR) planned a DE for the weekend of April 30 and May 1\, but that DE had to be canceled because the road course was not ready in time. Their next DE at Dominion Raceway is scheduled for July 9 and 10.
URL:https://shn.pca.org/calendar/6091/
LOCATION:VA
CATEGORIES:Shenandoah Region PCA
ORGANIZER;CN="Shenandoah Region PCA":MAILTO:sr.pca.prez@gmail.com
END:VEVENT
END:VCALENDAR