BEGIN:VCALENDAR
VERSION:2.0
PRODID:-//SHENANDOAH REGION - ECPv6.11.2.1//NONSGML v1.0//EN
CALSCALE:GREGORIAN
METHOD:PUBLISH
X-WR-CALNAME:SHENANDOAH REGION
X-ORIGINAL-URL:https://shn.pca.org
X-WR-CALDESC:Events for SHENANDOAH REGION
REFRESH-INTERVAL;VALUE=DURATION:PT1H
X-Robots-Tag:noindex
X-PUBLISHED-TTL:PT1H
BEGIN:VTIMEZONE
TZID:America/New_York
BEGIN:DAYLIGHT
TZOFFSETFROM:-0500
TZOFFSETTO:-0400
TZNAME:EDT
DTSTART:20250309T070000
END:DAYLIGHT
BEGIN:STANDARD
TZOFFSETFROM:-0400
TZOFFSETTO:-0500
TZNAME:EST
DTSTART:20251102T060000
END:STANDARD
END:VTIMEZONE
BEGIN:VTIMEZONE
TZID:Asia/Karachi
BEGIN:STANDARD
TZOFFSETFROM:+0500
TZOFFSETTO:+0500
TZNAME:PKT
DTSTART:20250101T000000
END:STANDARD
END:VTIMEZONE
BEGIN:VEVENT
DTSTART;TZID=America/New_York:20250405T080000
DTEND;TZID=America/New_York:20250405T100000
DTSTAMP:20260423T184926
CREATED:20250303T193910Z
LAST-MODIFIED:20250402T183402Z
UID:23120-1743840000-1743847200@shn.pca.org
SUMMARY:Charlottesville Cars and Coffee
DESCRIPTION:NOTE: This is a non-PCA event. Charlottesville Cars and Coffee meets from 8 am to 10 am on the first and third Saturdays of every month all year at the Barracks Road Shopping Center. Bad weather does not cancel – use your brain. Normally 80 to 100 cars\, everything from Ford to Ferrari. Good mix of younger and older enthusiasts coming together to see some great cars and enjoy even better conversation. Usual rules apply; no burnouts or hard pulls\, no revving engines\, no trash! Violators asked to leave and not return. \nPhoto credit: Cars and Coffee website.
URL:https://shn.pca.org/calendar/charlottesville-cars-and-coffee-2/
LOCATION:Barracks Road 1049 Emmet St N\, Charlottesville\, VA 22903\, 1049 Emmet St N\, Charlottesville\, VA\, 22903\, United States
ATTACH;FMTTYPE=image/webp:https://shn.pca.org/wp-content/uploads/2025/03/Charlottesville-Cars-and-Coffee.webp
END:VEVENT
BEGIN:VEVENT
DTSTART;TZID=Asia/Karachi:20250607T080000
DTEND;TZID=Asia/Karachi:20250607T100000
DTSTAMP:20260423T184926
CREATED:20250402T184351Z
LAST-MODIFIED:20250402T184831Z
UID:23410-1749283200-1749290400@shn.pca.org
SUMMARY:Charlottesville Cars & Coffee
DESCRIPTION:NOTE: This is a non-PCA event. Charlottesville Cars and Coffee meets from 8 am to 10 am on the first and third Saturdays of every month all year at the Barracks Road Shopping Center. Bad weather does not cancel – use your brain. Normally 80 to 100 cars\, everything from Ford to Ferrari. Good mix of younger and older enthusiasts coming together to see some great cars and enjoy even better conversation. Usual rules apply; no burnouts or hard pulls\, no revving engines\, no trash! Violators asked to leave and not return. \nPhoto credit: Cars and Coffee website.
URL:https://shn.pca.org/calendar/charlottesville-cars-coffee-2/
LOCATION:Barracks Road 1049 Emmet St N\, Charlottesville\, VA 22903\, 1049 Emmet St N\, Charlottesville\, VA\, 22903\, United States
ATTACH;FMTTYPE=image/webp:https://shn.pca.org/wp-content/uploads/2025/03/Charlottesville-Cars-and-Coffee.webp
END:VEVENT
BEGIN:VEVENT
DTSTART;TZID=America/New_York:20250607T090000
DTEND;TZID=America/New_York:20250607T150000
DTSTAMP:20260423T184926
CREATED:20250401T205721Z
LAST-MODIFIED:20250423T165957Z
UID:23398-1749286800-1749308400@shn.pca.org
SUMMARY:Capital Autobahnd Open House
DESCRIPTION:Shenandoah Region Title sponsor Capital Autobahnd is having an Open House on Saturday\, June 7\, 2025\, starting at 9:00 AM.  Coffee and donuts will be provided.  They will be inviting special cars to be displayed and also hold a Tech Session demonstrating XPEL Protective Film application on an Audi supplied by Richmond Audi. So this isn’t exclusively a Shenandoah Region event. In addition there will be raffles and apparel available for purchase so please come out and support one of best sponsors.  They will also have River City Wood Fire pizza food truck there from 11:30 to 1:30 for your snacking pleasure. \n(Poster image courtesy of Capital Autobahnd.)
URL:https://shn.pca.org/calendar/capital-autobahnd-open-house/
LOCATION:Capital Autobahnd\, 3817 Gaskin Rd\, Henrico\, VA\, 23234\, United States
ATTACH;FMTTYPE=image/jpeg:https://shn.pca.org/wp-content/uploads/2025/04/CaptialA-OpenHouse.jpg
END:VEVENT
BEGIN:VEVENT
DTSTART;TZID=America/New_York:20250621T090000
DTEND;TZID=America/New_York:20250621T120000
DTSTAMP:20260423T184926
CREATED:20250507T143300Z
LAST-MODIFIED:20250507T143300Z
UID:23532-1750496400-1750507200@shn.pca.org
SUMMARY:Powderworks Tech Session
DESCRIPTION:On Saturday\, June 21st\, the Shenandoah Region hosts a Tech session at Powder Coating Solutions located at 1400 Hopeman Pkwy\, Suite C\, Waynesboro\, VA 22980. \nPowder Coating Solutions\, the home of the largest powder coating oven in the state of Virginia\, is opening its doors to our members for a tech session on powder coating.  We will meet at their studio at 9:00 AM for coffee/donuts/snacks with the factory tour beginning about 9:30 AM and ending around noon.  During our visit\, guests will see exactly what it takes to powder coat an item\, from start to finish.  We will be doing a Porsche rim as part of the demo. If you have ever wondered what it takes to get some of those amazing colors that make a car unique\, here is your chance. \nRegistration is limited to 30 cars. The registration fee for this event is $10 per person and the registration deadline is Monday June 16. \nThe link for registration is  POWDERWORKS REGISTRATION LINK \nQuestions?  Contact Brad Bradford at drbrad@pipeline.com
URL:https://shn.pca.org/calendar/powderworks-tech-session/
LOCATION:Powder Coating Solutions\, 1400 Hopeman Parkway\, Suite C\, Waynesboro\, VA\, 22980\, United States
ATTACH;FMTTYPE=image/jpeg:https://shn.pca.org/wp-content/uploads/2025/05/PCS-rim.jpg
ORGANIZER;CN="Shenandoah Region PCA":MAILTO:sr.pca.prez@gmail.com
END:VEVENT
BEGIN:VEVENT
DTSTART;TZID=America/New_York:20250622T081500
DTEND;TZID=America/New_York:20250622T170000
DTSTAMP:20260423T184926
CREATED:20250507T144708Z
LAST-MODIFIED:20250620T195431Z
UID:23537-1750580100-1750611600@shn.pca.org
SUMMARY:National D-Day Memorial Drive
DESCRIPTION:On Sunday\, June 22nd\, the Shenandoah Region will host a driving tour to Bedford\, VA\, and the National D-Day Memorial. The drive will start at the parking lot across the street from Belties at a medical office located at 2871 Rockfish Valley Highway\, Nellysford\, VA 22958. \nWe will meet in the parking lot at 8:15 AM. Our drivers meeting will be at 8:45 AM. The first groups will depart at 9:00 AM. After approximately 2 hours of driving along the area’s beautiful scenic backroads and stopping for a break along the way\, the tour groups will arrive at the National D-Day Memorial at 11:00 AM for a private tour. \n  \nThe memorial is located at 3 Overlord Circle\, Bedford\, VA 24523. \nThe web link to the National D-Day Memorial is  This Link \nAfter the tour we will gather for lunch at 1:00 PM at the Bella Italia Restaurant located at 401 E. Main Street\, Bedford. \nThe non-refundable fee is $20 which includes an admission ticket to the memorial but does not include lunch. \nThe link for registration is  Bedford Registration Link \nRegistration closes on Friday\, June 13th. \nQuestions? Contact Dan Graff at shenandoahregionpca@gmail.com
URL:https://shn.pca.org/calendar/national-d-day-memorial-drive/
LOCATION:Medical Office Parking\, 2871 Rockfish Valley Hwy\, Nellysford\, VA\, 22958\, United States
ATTACH;FMTTYPE=image/jpeg:https://shn.pca.org/wp-content/uploads/2025/05/ARCH-WITH-MOUNTAINS-scaled-1.jpg
ORGANIZER;CN="Shenandoah Region PCA":MAILTO:sr.pca.prez@gmail.com
END:VEVENT
END:VCALENDAR