BEGIN:VCALENDAR
VERSION:2.0
PRODID:-//SHENANDOAH REGION - ECPv6.11.2.1//NONSGML v1.0//EN
CALSCALE:GREGORIAN
METHOD:PUBLISH
X-ORIGINAL-URL:https://shn.pca.org
X-WR-CALDESC:Events for SHENANDOAH REGION
REFRESH-INTERVAL;VALUE=DURATION:PT1H
X-Robots-Tag:noindex
X-PUBLISHED-TTL:PT1H
BEGIN:VTIMEZONE
TZID:America/New_York
BEGIN:DAYLIGHT
TZOFFSETFROM:-0500
TZOFFSETTO:-0400
TZNAME:EDT
DTSTART:20250309T070000
END:DAYLIGHT
BEGIN:STANDARD
TZOFFSETFROM:-0400
TZOFFSETTO:-0500
TZNAME:EST
DTSTART:20251102T060000
END:STANDARD
END:VTIMEZONE
BEGIN:VEVENT
DTSTART;TZID=America/New_York:20251122T103000
DTEND;TZID=America/New_York:20251122T133000
DTSTAMP:20260423T194524
CREATED:20251030T141809Z
LAST-MODIFIED:20251030T141809Z
UID:24003-1763807400-1763818200@shn.pca.org
SUMMARY:Turkeys in the Trunk 2025
DESCRIPTION:On Saturday\, November 22\, the Shenandoah Region will host a Turkeys in the Trunk in Charlottesville and the First Settlers Region will host the same in Midlothian/Richmond and Virginia Beach. (More information is available on the FSR app for these locations.) \nThis is Shenandoah Region premier charitable event and comes at the time of the year where we can focus on gratitude and helping our neighbors though the holidays. \nFor those of you who haven’t been to “Turkeys in the Trunk”\, this is how it works. First\, you load your front trunk\, or your back trunk if you have one\, your roof rack\, your passenger foot well… or wherever\, with frozen turkeys\, canned vegetables\, non-perishable food and the rest of the fixings for a Thanksgiving meal. Second\, meet-up at one of the gathering places to socialize before heading to one of the food bank locations. \nThe Shenandoah Region meet-up will be at 10:30 at Porsche Charlottesville\, 1300 Richmond Road in Charlottesville to enjoy some coffee and pastries. Then at 11:45 AM we’ll depart for the Blue Ridge Food Bank located at 1207 Harris Street in Charlottesville. If you prefer to make a monetary donation\, please make checks payable to the Blue Ridge Food Bank. \nWe appreciate the continued support of the staff at Porsche Charlottesville in making this event possible. \nPlease register so that we can properly plan for the event. Registration is via MotorsportReg: LINK HERE \nThank you in advance for your participation. This event CAN make a difference in our communities!! \nRegards\, \nJonathan Perelman\, President  and Hank Weil\, Event Chair.
URL:https://shn.pca.org/calendar/turkeys-in-the-trunk-2025/
LOCATION:Porsche Charlottesville\, 1300 Richmond Rd\, Charlottesville\, VA 22911\, USA\, Charlottesville\, VA\, VA 22911\, United States
ATTACH;FMTTYPE=image/jpeg:https://shn.pca.org/wp-content/uploads/2025/10/IMG_4770-scaled.jpg
ORGANIZER;CN="Shenandoah Region PCA":MAILTO:sr.pca.prez@gmail.com
END:VEVENT
END:VCALENDAR