BEGIN:VCALENDAR
VERSION:2.0
PRODID:-//SHENANDOAH REGION - ECPv6.11.2.1//NONSGML v1.0//EN
CALSCALE:GREGORIAN
METHOD:PUBLISH
X-ORIGINAL-URL:https://shn.pca.org
X-WR-CALDESC:Events for SHENANDOAH REGION
REFRESH-INTERVAL;VALUE=DURATION:PT1H
X-Robots-Tag:noindex
X-PUBLISHED-TTL:PT1H
BEGIN:VTIMEZONE
TZID:America/New_York
BEGIN:DAYLIGHT
TZOFFSETFROM:-0500
TZOFFSETTO:-0400
TZNAME:EDT
DTSTART:20260308T070000
END:DAYLIGHT
BEGIN:STANDARD
TZOFFSETFROM:-0400
TZOFFSETTO:-0500
TZNAME:EST
DTSTART:20261101T060000
END:STANDARD
END:VTIMEZONE
BEGIN:VEVENT
DTSTART;VALUE=DATE:20260830
DTEND;VALUE=DATE:20260831
DTSTAMP:20260423T183424
CREATED:20260328T141856Z
LAST-MODIFIED:20260328T141856Z
UID:24386-1788048000-1788134399@shn.pca.org
SUMMARY:Fifth Annual Mukha's Backyard Driving Tour
DESCRIPTION:HOLD THE DATE: On Sunday\, August 30\, the Shenandoah Region is proud to present the Fifth Annual Mukha’s Backyard Driving Tour. Join us on country back roads traversing Orange and Madison counties with the final destination of Gordonsville. \nOur destination will be the Gordonsville Ice House. Look for all the details and sign-up info in an upcoming enews email.
URL:https://shn.pca.org/calendar/fifth-annual-mukhas-backyard-driving-tour/
LOCATION:VA
ATTACH;FMTTYPE=image/jpeg:https://shn.pca.org/wp-content/uploads/2025/07/Mulka.jpg
ORGANIZER;CN="Shenandoah Region PCA":MAILTO:sr.pca.prez@gmail.com
END:VEVENT
END:VCALENDAR