BEGIN:VCALENDAR
VERSION:2.0
PRODID:-//SHENANDOAH REGION - ECPv6.11.2.1//NONSGML v1.0//EN
CALSCALE:GREGORIAN
METHOD:PUBLISH
X-ORIGINAL-URL:https://shn.pca.org
X-WR-CALDESC:Events for SHENANDOAH REGION
REFRESH-INTERVAL;VALUE=DURATION:PT1H
X-Robots-Tag:noindex
X-PUBLISHED-TTL:PT1H
BEGIN:VTIMEZONE
TZID:America/New_York
BEGIN:DAYLIGHT
TZOFFSETFROM:-0500
TZOFFSETTO:-0400
TZNAME:EDT
DTSTART:20250309T070000
END:DAYLIGHT
BEGIN:STANDARD
TZOFFSETFROM:-0400
TZOFFSETTO:-0500
TZNAME:EST
DTSTART:20251102T060000
END:STANDARD
END:VTIMEZONE
BEGIN:VEVENT
DTSTART;VALUE=DATE:20251011
DTEND;VALUE=DATE:20251012
DTSTAMP:20260424T081335
CREATED:20250421T184847Z
LAST-MODIFIED:20250812T152836Z
UID:23432-1760140800-1760227199@shn.pca.org
SUMMARY:Shenandoah Region's 30th Anniversary Party
DESCRIPTION:HOLD THE DATE: Our big 3-0 anniversary party will take place on Saturday\, October 11\, 2025\, at Southwest Mountain Vineyards in Keswick.  Keep an eye out for an upcoming Shenandoah Region enews email with all the details.
URL:https://shn.pca.org/calendar/shenandoah-region-30th-anniversary-party/
LOCATION:VA
ATTACH;FMTTYPE=image/jpeg:https://shn.pca.org/wp-content/uploads/2025/04/30-years-happy-anniversary-1.jpg
ORGANIZER;CN="Shenandoah Region PCA":MAILTO:sr.pca.prez@gmail.com
END:VEVENT
END:VCALENDAR