BEGIN:VCALENDAR
VERSION:2.0
PRODID:-//SHENANDOAH REGION - ECPv6.11.2.1//NONSGML v1.0//EN
CALSCALE:GREGORIAN
METHOD:PUBLISH
X-WR-CALNAME:SHENANDOAH REGION
X-ORIGINAL-URL:https://shn.pca.org
X-WR-CALDESC:Events for SHENANDOAH REGION
REFRESH-INTERVAL;VALUE=DURATION:PT1H
X-Robots-Tag:noindex
X-PUBLISHED-TTL:PT1H
BEGIN:VTIMEZONE
TZID:America/New_York
BEGIN:DAYLIGHT
TZOFFSETFROM:-0500
TZOFFSETTO:-0400
TZNAME:EDT
DTSTART:20260308T070000
END:DAYLIGHT
BEGIN:STANDARD
TZOFFSETFROM:-0400
TZOFFSETTO:-0500
TZNAME:EST
DTSTART:20261101T060000
END:STANDARD
END:VTIMEZONE
BEGIN:VEVENT
DTSTART;TZID=America/New_York:20260523T110000
DTEND;TZID=America/New_York:20260523T150000
DTSTAMP:20260423T160930
CREATED:20260127T164305Z
LAST-MODIFIED:20260323T144102Z
UID:24260-1779534000-1779548400@shn.pca.org
SUMMARY:Update: Glenmore Cruise-In 2026
DESCRIPTION:Hold the date for this Shenandoah PCA event – a cruise in at the Glenmore Country Club (1750 Piper Way\, Keswick\, VA 22947). \nLook for more details in an enews email when it’s announced.
URL:https://shn.pca.org/calendar/glenmore-cruise-in-2026/
LOCATION:Glenmore Country Club Keswick\, VA\, 1750 Piper Way\, Keswick\, VA\, 22947\, United States
ATTACH;FMTTYPE=image/jpeg:https://shn.pca.org/wp-content/uploads/2024/08/FAOH2011jb.jpg
ORGANIZER;CN="Shenandoah Region PCA":MAILTO:sr.pca.prez@gmail.com
END:VEVENT
END:VCALENDAR