BEGIN:VCALENDAR
VERSION:2.0
PRODID:-//SHENANDOAH REGION - ECPv6.11.2.1//NONSGML v1.0//EN
CALSCALE:GREGORIAN
METHOD:PUBLISH
X-WR-CALNAME:SHENANDOAH REGION
X-ORIGINAL-URL:https://shn.pca.org
X-WR-CALDESC:Events for SHENANDOAH REGION
REFRESH-INTERVAL;VALUE=DURATION:PT1H
X-Robots-Tag:noindex
X-PUBLISHED-TTL:PT1H
BEGIN:VTIMEZONE
TZID:Asia/Karachi
BEGIN:STANDARD
TZOFFSETFROM:+0500
TZOFFSETTO:+0500
TZNAME:PKT
DTSTART:20260101T000000
END:STANDARD
END:VTIMEZONE
BEGIN:VEVENT
DTSTART;VALUE=DATE:20260726
DTEND;VALUE=DATE:20260727
DTSTAMP:20260423T194115
CREATED:20260127T181404Z
LAST-MODIFIED:20260127T181404Z
UID:24279-1785024000-1785110399@shn.pca.org
SUMMARY:Virginia Scenic Railway Trip
DESCRIPTION:Hold the date: on Sunday\, July 26th\, we’ll take a ride on the Virginia Scenic Railway in our our private dome car. \nLook for an enews email with all the details when it’s announced.
URL:https://shn.pca.org/calendar/virginia-scenic-railway-trip/
LOCATION:VA
ATTACH;FMTTYPE=image/jpeg:https://shn.pca.org/wp-content/uploads/2026/01/VSscnicrail.jpg
END:VEVENT
END:VCALENDAR